BEGIN:VCALENDAR
VERSION:2.0
PRODID:spatie/icalendar-generator
DESCRIPTION:Events from Living Hope Evangelical Free Church
X-WR-CALDESC:Events from Living Hope Evangelical Free Church
REFRESH-INTERVAL;VALUE=DURATION:PT1440M
X-PUBLISHED-TTL:PT1440M
BEGIN:VTIMEZONE
TZID:Etc/GMT+0
BEGIN:STANDARD
DTSTART:20240828T093000Z
TZOFFSETFROM:+0000
TZOFFSETTO:+0000
END:STANDARD
END:VTIMEZONE
BEGIN:VTIMEZONE
TZID:UTC
BEGIN:STANDARD
DTSTART:20250724T081627Z
TZOFFSETFROM:+0000
TZOFFSETTO:+0000
END:STANDARD
END:VTIMEZONE
BEGIN:VEVENT
UID:1451-3
DTSTAMP:20260420T081627Z
SUMMARY:KNZZ Broadcast (pre-recorded)
LOCATION:
ORGANIZER;CN=Kate Jogno:MAILTO:kate@mesacountyroofs.com
RRULE:FREQ=WEEKLY;COUNT=0
DTSTART;TZID=Etc/GMT+0:20250525T093000
DTEND;TZID=Etc/GMT+0:20250525T103000
X-ALT-DESC;FMTTYPE=TEXT/HTML:
CATEGORIES:General
URL;VALUE=URI:https://beta.livinghopefree.church/mc-events/knzz-broadcast-p
 re-recorded-2/?mc_id=1451
END:VEVENT
END:VCALENDAR